{"text_format":"1","workbook":"xlsx","n_sheets":4,"sheets":["Summary","Quantitative","Sheet2","Sheet3"],"not_rendered":{"charts":0,"images":0,"macros":1,"external_links":1,"defined_names":3,"comments":0,"pivot_tables":0},"unopened":[],"bounds":{"document_bytes":16777216,"sheet_cells":100000,"rows_first":2000,"rows_last":500,"rows_between":2000,"halvings":0,"cell_chars":16384,"cell_head_chars":4096},"cells_cut":0,"cells_raw":0,"read":"whole","date_system":"1900"}

{"sheet":"Summary","index":0,"n_rows":20,"n_cols":12,"rows_kept":20,"cut":false,"hidden":false,"merged":[[2,1,2,5]]}
["Scan: Start with Multispec, Cosmic Signature"]
[]
["System","Quest Placement at Planet",null,null,null,null,null,"Launcher","Astro","Probe","Range, AU","Astro"]
["Agal",3,5,7,8,null,null,"Recon Probe Launcher I",2,"Snoop Scanner Probe I",5,1]
["Apanake",1,8,9,10,null,null,"Sisters Recon Probe Launcher I",2,"Fathom Scanner Probe I",10,3]
["Avyuh",1,5,null,null,null,null,null,null,"Spook Scanner Probe I",20,4]
["Bania",4,6,7,null,null,null,null,null,"Ferret Scanner Probe I",40,5]
["Ebasez",3,7,8,null,null,null,null,null,"Sisters Observator Deep Space Probe I",1000,5]
["Hadji",1,6,7,8,null,null,null,null,"Observator Deep Space Probe I",1000,5]
["Keseya",1,7,8,9,null,null,"Scan Probe Launcher I",1,"Sift Probe",0.5,4]
["Nasreri",5,6,7,8,null,null,"Sisters Probe Launcher I",1,"Comb Probe",1,3]
["Serren",1,7,8,9,null,null,null,null,"Pursuit Probe",2,2]
["Sheroo","A (~7-5)",8,9,10,11,null,null,null,"Quest Probe",4,1]
["Sigga",1,8,9,null,null,null,null,null,"Multispectral Frequency Probe",999,1]
["Sosh",3,8,9,10,null,null,"The \"Quantitative\" tab calculates how many scans it takes to achieve a probability of detection."]
["Tarta",1,9,10,11,null,null,"Unknown","Combat sites, can be found with any probe type"]
["Zoohen",1,6,7,null,null,null,"Gravimetric","Hidden asteroid belts"]
[null,null,null,null,null,null,null,"Magnetometric","Archaeology / Salvage profession sites"]
[null,null,null,null,null,null,null,"RADAR","Hacking profession sites"]
[null,null,null,null,null,null,null,"LADAR","Gas Cloud Sites"]

{"sheet":"Quantitative","index":1,"n_rows":67,"n_cols":22,"rows_kept":67,"cut":false,"hidden":false,"merged":[]}
[]
[null,"Name","Type","Launcher/Probe","Range, au","Base Primary Sensor Strength, points","Base Secondary Sensor Strength, points","Net Primary Sensor Strength, points","Net Secondary Sensor Strength, points","Base Max Scan Deviation, km","Net Max Scan Deviation, km","Units","Flight Time, sec","Volume, m3","Capacity, m3","Base Cycle Time, Sec","Net Cycle Time, Sec","Rate of Fire, Sec","Loaded Probes","CPU","PG"]
[null,"Snoop Scanner Probe I","Ship","Probe",5,20,0,{"$f":"F3*(1+$E$23*$F$23)","v":23},{"$f":"G3*(1+$E$23*$F$23)","v":0},200,{"$f":"J3*(1+$E$22*$F$22)","v":140},"km",300,2.5000000000000001E-2,0,0,{"$f":"P3*(1+$E$24*$F$24+$E$25*$F$25)","v":0},0,{"$f":"INT($O$16/$N3)","v":40},0,0,{"$f":"B3","v":"Snoop Scanner Probe I"}]
[null,"Fathom Scanner Probe I","Ship","Probe",10,10,0,11.5,0,2500,1750,"km",600,0.05,0,0,0,0,20,0,0,{"$f":"B4","v":"Fathom Scanner Probe I"}]
[null,"Spook Scanner Probe I","Ship","Probe",20,5,0,5.75,0,50000,35000,"km",1200,7.4999999999999997E-2,0,0,0,0,13,0,0,"Spook Scanner Probe I"]
[null,"Ferret Scanner Probe I","Ship","Probe",40,2.5,0,2.875,0,10000,7000,"km",2400,0.1,0,0,0,0,10,0,0,"Ferret Scanner Probe I"]
[null,"Sisters Observator Deep Space Probe I","Ship","Probe",1000,1.4,0,1.6099999999999999,0,20000,14000,"km",4800,0.1,0,0,0,0,10,0,0,"Sisters Observator Deep Space Probe I"]
[null,"Observator Deep Space Probe I","Ship","Probe",1000,1.25,0,1.4375,0,20000,14000,"km",4800,0.125,0,0,0,0,8,0,0,"Observator Deep Space Probe I"]
[null,"Sift Probe","Exploration","Probe",0.5,2000,400,2300,459.99999999999994,2500,1750,"km",500,1.25,0,0,0,0,{"$f":"INT($O$14/$N9)","v":8},0,0,"Sift Probe"]
[null,"Comb Probe","Exploration","Probe",1,1000,200,1150,229.99999999999997,125000,87500,"km",1000,1.25,0,0,0,0,{"$f":"INT($O$14/$N10)","v":8},0,0,"Comb Probe"]
[null,"Pursuit Probe","Exploration","Probe",2,500,100,575,114.99999999999999,6250000,4375000,"km",2000,1.25,0,0,0,0,{"$f":"INT($O$14/$N11)","v":8},0,0,"Pursuit Probe"]
[null,"Quest Probe","Exploration","Probe",4,250,50,287.5,57.499999999999993,2.0880000000000001,1.4616,"au",4000,1.25,0,0,0,0,{"$f":"INT($O$14/$N12)","v":8},0,0,"Quest Probe"]
[null,"Multispectral Frequency Probe","Exploration","Probe",999,1000000,1000000,1150000,1150000,0,0,"-",600,1.25,0,0,0,0,{"$f":"INT($O$14/$N13)","v":8},0,0,"Multispectral Frequency Probe"]
[null,"Scan Probe Launcher I","Exploration","Launcher",0,0,0,0,0,0,0,"-",0,0,10,600,{"$f":"P14*(1+$E$24*$F$24)*(1+$E$25*$F$25)*(1+$F$26)^$E$26","v":174.96},15,0,220,1]
[null,"Sisters Probe Launcher I","Exploration","Launcher",0,0,0,0,0,0,0,"-",0,0,10,450,{"$f":"P15*(1+$E$24*$F$24)*(1+$E$25*$F$25)*(1+$F$26)^$E$26","v":131.22},15,0]
[null,"Recon Probe Launcher I","Ship","Launcher",0,0,0,0,0,0,0,"-",0,0,1,120,34.991999999999997,2.5,0,220,2]
[null,"Sisters Recon Probe Launcher I","Ship","Launcher",0,0,0,0,0,0,0,"-",0,0,1,120,34.991999999999997,2.5,0]
[]
[]
[null,null,null,null,"Skill Lvl/Qty","Per Level"]
[null,"Astrometrics",null,null,5,1,"Number of Scan Groups",null,null,null,"Implements Hoshi's article"]
[null,"Astrometric Pinpointing",null,null,3,-0.1,"Scan Deviation"]
[null,"Astrometric Triangulation",null,null,3,0.05,"Scan Strength"]
[null,"Signal Acquisition",null,null,4,-0.1,"Scan Time"]
[null,"Covert Ops Frigate",null,null,4,-0.1,"Scan Time"]
[null,"Gravity Capacitor Upgrade Rig",null,null,2,-0.1,"Scan Time"]
[]
[]
[null,null,null,null,null,{"$f":"EXP(-((F31/E38)^2))","v":0.99977502531060169},null,"Range Multiplier"]
[null,"Target",null,null,null,{"$f":"149597870.691","v":149597870.69100001},"km","Astronomical Unit"]
[null,"Range",15,"au","\"au\" or \"km\"",{"$f":"IF(D31=\"au\",MAX(C31,IF(L38=\"km\",K38/F30,K38)),MAX(C31/F30,IF(L38=\"km\",K38/F30,K38)))","v":15},"au"]
[null,"Signature Radius",480,null,null,{"$f":"IF(D31=\"km\",MAX(C31,IF(L38=\"au\",K38*F30,K38)),MAX(C31*F30,IF(L38=\"au\",K38,K38/F30)))","v":2243968060.3650002},"km"]
[null,"Sensor Strength",24]
[null,"Signal Size",{"$f":"C32/C33","v":20}]
[]
[]
[null,"Probe"]
[null,"Observator Deep Space Probe I",{"$f":"[1]!dbvfind($B38,$B$3:$U$17,COLUMN(C38)-COLUMN($B38)+1)","v":"Ship"},{"$f":"[1]!dbvfind($B38,$B$3:$U$17,COLUMN(D38)-COLUMN($B38)+1)","v":"Probe"},{"$f":"[1]!dbvfind($B38,$B$3:$U$17,COLUMN(E38)-COLUMN($B38)+1)","v":1000},{"$f":"[1]!dbvfind($B38,$B$3:$U$17,COLUMN(F38)-COLUMN($B38)+1)","v":1.25},{"$f":"[1]!dbvfind($B38,$B$3:$U$17,COLUMN(G38)-COLUMN($B38)+1)","v":0},{"$f":"[1]!dbvfind($B38,$B$3:$U$17,COLUMN(H38)-COLUMN($B38)+1)","v":1.4375},{"$f":"[1]!dbvfind($B38,$B$3:$U$17,COLUMN(I38)-COLUMN($B38)+1)","v":0},{"$f":"[1]!dbvfind($B38,$B$3:$U$17,COLUMN(J38)-COLUMN($B38)+1)","v":20000},{"$f":"[1]!dbvfind($B38,$B$3:$U$17,COLUMN(K38)-COLUMN($B38)+1)","v":14000},{"$f":"[1]!dbvfind($B38,$B$3:$U$17,COLUMN(L38)-COLUMN($B38)+1)","v":"km"},{"$f":"[1]!dbvfind($B38,$B$3:$U$17,COLUMN(M38)-COLUMN($B38)+1)","v":4800},{"$f":"[1]!dbvfind($B38,$B$3:$U$17,COLUMN(N38)-COLUMN($B38)+1)","v":0.125},{"$f":"[1]!dbvfind($B38,$B$3:$U$17,COLUMN(O38)-COLUMN($B38)+1)","v":0},{"$f":"[1]!dbvfind($B38,$B$3:$U$17,COLUMN(P38)-COLUMN($B38)+1)","v":0},{"$f":"[1]!dbvfind($B38,$B$3:$U$17,COLUMN(Q38)-COLUMN($B38)+1)","v":0},{"$f":"[1]!dbvfind($B38,$B$3:$U$17,COLUMN(R38)-COLUMN($B38)+1)","v":0},{"$f":"[1]!dbvfind($B38,$B$3:$U$17,COLUMN(S38)-COLUMN($B38)+1)","v":8},{"$f":"[1]!dbvfind($B38,$B$3:$U$17,COLUMN(T38)-COLUMN($B38)+1)","v":0},{"$f":"[1]!dbvfind($B38,$B$3:$U$17,COLUMN(U38)-COLUMN($B38)+1)","v":0}]
[null,"Range",{"$f":"E38","v":1000},"au"]
[]
[null,"Launcher"]
[null,"Recon Probe Launcher I",{"$f":"[1]!dbvfind($B42,$B$3:$U$17,COLUMN(C42)-COLUMN($B42)+1)","v":"Ship"},{"$f":"[1]!dbvfind($B42,$B$3:$U$17,COLUMN(D42)-COLUMN($B42)+1)","v":"Launcher"},{"$f":"[1]!dbvfind($B42,$B$3:$U$17,COLUMN(E42)-COLUMN($B42)+1)","v":0},{"$f":"[1]!dbvfind($B42,$B$3:$U$17,COLUMN(F42)-COLUMN($B42)+1)","v":0},{"$f":"[1]!dbvfind($B42,$B$3:$U$17,COLUMN(G42)-COLUMN($B42)+1)","v":0},{"$f":"[1]!dbvfind($B42,$B$3:$U$17,COLUMN(H42)-COLUMN($B42)+1)","v":0},{"$f":"[1]!dbvfind($B42,$B$3:$U$17,COLUMN(I42)-COLUMN($B42)+1)","v":0},{"$f":"[1]!dbvfind($B42,$B$3:$U$17,COLUMN(J42)-COLUMN($B42)+1)","v":0},{"$f":"[1]!dbvfind($B42,$B$3:$U$17,COLUMN(K42)-COLUMN($B42)+1)","v":0},{"$f":"[1]!dbvfind($B42,$B$3:$U$17,COLUMN(L42)-COLUMN($B42)+1)","v":"-"},{"$f":"[1]!dbvfind($B42,$B$3:$U$17,COLUMN(M42)-COLUMN($B42)+1)","v":0},{"$f":"[1]!dbvfind($B42,$B$3:$U$17,COLUMN(N42)-COLUMN($B42)+1)","v":0},{"$f":"[1]!dbvfind($B42,$B$3:$U$17,COLUMN(O42)-COLUMN($B42)+1)","v":1},{"$f":"[1]!dbvfind($B42,$B$3:$U$17,COLUMN(P42)-COLUMN($B42)+1)","v":120},{"$f":"[1]!dbvfind($B42,$B$3:$U$17,COLUMN(Q42)-COLUMN($B42)+1)","v":34.991999999999997},{"$f":"[1]!dbvfind($B42,$B$3:$U$17,COLUMN(R42)-COLUMN($B42)+1)","v":2.5},{"$f":"[1]!dbvfind($B42,$B$3:$U$17,COLUMN(S42)-COLUMN($B42)+1)","v":0},{"$f":"[1]!dbvfind($B42,$B$3:$U$17,COLUMN(T42)-COLUMN($B42)+1)","v":220},{"$f":"[1]!dbvfind($B42,$B$3:$U$17,COLUMN(U42)-COLUMN($B42)+1)","v":2}]
[null,"Scan Time",{"$f":"E52*$Q$42/(24*60*60)","v":4.0499999999999998E-4},"hh:mm:ss"]
[]
[]
[null,"Scan Result"]
[null,"Signal Strength",null,null,{"$f":"MIN(1,(H38/100)*F29*C34)","v":0.28743531977679804},"Chance it will show each scan"]
[null,"Max Effective Scan Deviation (approx)",null,null,{"$f":"J38*((0.6*(E47^2))-(1.6*E47)+1)*(1+$E$22*$F$22)","v":8255.4489666633217},"km",null,"Grid Dimension",400,"km",{"$f":"IF($E$48>0,(1^2)/ROUNDUP($E$48/$I$48,0)^2,1)","v":2.2675736961451248E-3},"Probablility Any Scan Result Is In Same Grid"]
[null,"Start with Probe type:",null,null,{"$f":"IF(C42=\"Exploration\",B13,B8)","v":"Observator Deep Space Probe I"}]
[null,"Enter Probed Scan Dev in Target Range above, then  Next Probe:",null,null,{"$f":"IF(C42=\"Ship\",dbvfindlocal($F$32/$F$30,$E$3:$V$8,18),dbvfindlocal($F$32/$F$30,$E$9:$V$13,18))","v":"Spook Scanner Probe I"}]
[]
[null,"Number of Scans",null,null,1,2,3,4,5,6,7]
[null,"P(Will Show)",null,null,{"$f":"1-(1-$E$47)^E52","v":0.28743531977679804},0.4922515764984059,0.63819640697375168,0.74219153843164576,0.81629479602371002,0.86909816007329688,0.90672397229199997]
[null,"Total Scan Time, hh:mm:ss",null,null,{"$f":"E52*$Q$42/(24*60*60)","v":4.0499999999999998E-4},8.0999999999999996E-4,1.2149999999999999E-3,1.6199999999999999E-3,2.0249999999999999E-3,2.4299999999999999E-3,2.8349999999999998E-3,null,"Red means probe flight time is exceeded"]
[]
[null,"P(will show)",null,null,0.5,0.6,0.7,0.8,0.9]
[null,"Scans Required",null,null,{"$f":"IF($E$47<1,ROUNDUP(LN(1-E56)/LN(1-$E$47),0),1)","v":3},{"$f":"IF($E$47<1,ROUNDUP(LN(1-F56)/LN(1-$E$47),0),1)","v":3},4,5,7]
[null,"Total Scan Time, hh:mm:ss",null,null,{"$f":"E57*$Q$42/(24*60*60)","v":1.2149999999999999E-3},{"$f":"F57*$Q$42/(24*60*60)","v":1.2149999999999999E-3},{"$f":"G57*$Q$42/(24*60*60)","v":1.6199999999999999E-3},{"$f":"H57*$Q$42/(24*60*60)","v":2.0249999999999999E-3},{"$f":"I57*$Q$42/(24*60*60)","v":2.8349999999999998E-3}]
[]
[]
[]
[]
[null,null,null,null,"Unknown","Combat sites, can be found with any probe type"]
[null,null,null,null,"Gravimetric","Hidden asteroid belts"]
[null,null,null,null,"Magnetometric","Archaeology / Salvage profession sites"]
[null,null,null,null,"RADAR","Hacking profession sites"]
[null,null,null,null,"LADAR","Gas Cloud Sites"]

{"sheet":"Sheet2","index":2,"n_rows":0,"n_cols":0,"rows_kept":0,"cut":false,"hidden":false,"merged":[]}

{"sheet":"Sheet3","index":3,"n_rows":0,"n_cols":0,"rows_kept":0,"cut":false,"hidden":false,"merged":[]}